BEGIN:VCALENDAR
VERSION:2.0
PRODID:icalendar-ruby
CALSCALE:GREGORIAN
METHOD:PUBLISH
BEGIN:VEVENT
DTSTAMP:20260425T104242Z
UID:281d1be9-9213-4cb7-8151-1f08b638c035
DTSTART;VALUE=DATE:20240808
DTEND;VALUE=DATE:20240808
DESCRIPTION:Cape Cod BMX
LOCATION:65 Quaker Meetinghouse Rd   Sandwich MA 02563 USA
SUMMARY:Practice
URL:/site/bmx_races/560440
END:VEVENT
END:VCALENDAR
