BEGIN:VCALENDAR
VERSION:2.0
PRODID:icalendar-ruby
CALSCALE:GREGORIAN
METHOD:PUBLISH
BEGIN:VEVENT
DTSTAMP:20260420T113105Z
UID:575c9042-94fb-4647-a791-3b2905441200
DTSTART;VALUE=DATE:20130611
DTEND;VALUE=DATE:20130611
DESCRIPTION:Trumbull BMX
LOCATION:370 Indian Ledge Park Dr  Trumbull CT 06611 USA
SUMMARY:Local Race Single
URL:/site/bmx_races/56067
END:VEVENT
END:VCALENDAR
