BEGIN:VCALENDAR
VERSION:2.0
PRODID:icalendar-ruby
CALSCALE:GREGORIAN
METHOD:PUBLISH
BEGIN:VEVENT
DTSTAMP:20260421T025310Z
UID:f81a82ed-f24e-4b93-9632-aafcc20d24f2
DTSTART;VALUE=DATE:20240511
DTEND;VALUE=DATE:20240511
DESCRIPTION:First State BMX
LOCATION:1045 N Walnut St  Milford DE 19963 USA
SUMMARY:Local Race Single
URL:/site/bmx_races/560686
END:VEVENT
END:VCALENDAR
