BEGIN:VCALENDAR
VERSION:2.0
PRODID:icalendar-ruby
CALSCALE:GREGORIAN
METHOD:PUBLISH
BEGIN:VEVENT
DTSTAMP:20260421T025310Z
UID:dbef9568-64c3-4b21-96dc-832907516398
DTSTART;VALUE=DATE:20240523
DTEND;VALUE=DATE:20240523
DESCRIPTION:First State BMX
LOCATION:1045 N Walnut St  Milford DE 19963 USA
SUMMARY:Practice
URL:/site/bmx_races/560691
END:VEVENT
END:VCALENDAR
