BEGIN:VCALENDAR
VERSION:2.0
PRODID:icalendar-ruby
CALSCALE:GREGORIAN
METHOD:PUBLISH
BEGIN:VEVENT
DTSTAMP:20260420T234453Z
UID:7328bdc7-e9b3-41d6-92e3-09b45f603ef7
DTSTART;VALUE=DATE:20240709
DTEND;VALUE=DATE:20240709
DESCRIPTION:First State BMX
LOCATION:1045 N Walnut St  Milford DE 19963 USA
SUMMARY:Local Race Single
URL:/site/bmx_races/560710
END:VEVENT
END:VCALENDAR
