BEGIN:VCALENDAR
VERSION:2.0
PRODID:icalendar-ruby
CALSCALE:GREGORIAN
METHOD:PUBLISH
BEGIN:VEVENT
DTSTAMP:20260420T213608Z
UID:c9ae3b5c-eede-4b49-94e9-509e51365a49
DTSTART;VALUE=DATE:20240817
DTEND;VALUE=DATE:20240817
DESCRIPTION:North Shore BMX
LOCATION:1301 Lillooet Road  North Vancouver BC V7J 3T7 CAN
SUMMARY:Open House
URL:/site/bmx_races/561505
END:VEVENT
END:VCALENDAR
