BEGIN:VCALENDAR
VERSION:2.0
PRODID:icalendar-ruby
CALSCALE:GREGORIAN
METHOD:PUBLISH
BEGIN:VEVENT
DTSTAMP:20260420T194608Z
UID:2610d0c8-25e9-4d51-8af2-08a9cd3d5c82
DTSTART;VALUE=DATE:20240914
DTEND;VALUE=DATE:20240914
DESCRIPTION:North Shore BMX
LOCATION:1301 Lillooet Road  North Vancouver BC V7J 3T7 CAN
SUMMARY:Open House
URL:/site/bmx_races/561513
END:VEVENT
END:VCALENDAR
