BEGIN:VCALENDAR
VERSION:2.0
PRODID:icalendar-ruby
CALSCALE:GREGORIAN
METHOD:PUBLISH
BEGIN:VEVENT
DTSTAMP:20260420T112849Z
UID:2896c989-3209-4172-a235-f02f6c82e8cd
DTSTART;VALUE=DATE:20240309
DTEND;VALUE=DATE:20240309
DESCRIPTION:Grand Prix BMX at SoCal Fair
LOCATION:18700 Lake Perris Dr  Perris CA 92571 USA
SUMMARY:Local Race Single
URL:/site/bmx_races/561679
END:VEVENT
END:VCALENDAR
