BEGIN:VCALENDAR
VERSION:2.0
PRODID:icalendar-ruby
CALSCALE:GREGORIAN
METHOD:PUBLISH
BEGIN:VEVENT
DTSTAMP:20260422T001024Z
UID:89d785b3-2f1e-46fc-bae1-cc370cee178e
DTSTART;VALUE=DATE:20240605
DTEND;VALUE=DATE:20240605
DESCRIPTION:Yuma BMX
LOCATION:3067 S Pacific Ave  Yuma AZ 85364 USA
SUMMARY:Local Race Single
URL:/site/bmx_races/561983
END:VEVENT
END:VCALENDAR
