BEGIN:VCALENDAR
VERSION:2.0
PRODID:icalendar-ruby
CALSCALE:GREGORIAN
METHOD:PUBLISH
BEGIN:VEVENT
DTSTAMP:20260421T224204Z
UID:26580e6c-72c1-489c-b113-a72054a3ae24
DTSTART;VALUE=DATE:20240705
DTEND;VALUE=DATE:20240705
DESCRIPTION:Yuma BMX
LOCATION:3067 S Pacific Ave  Yuma AZ 85364 USA
SUMMARY:Practice
URL:/site/bmx_races/561996
END:VEVENT
END:VCALENDAR
