BEGIN:VCALENDAR
VERSION:2.0
PRODID:icalendar-ruby
CALSCALE:GREGORIAN
METHOD:PUBLISH
BEGIN:VEVENT
DTSTAMP:20260421T010156Z
UID:f7b11aef-cb66-4c6f-a24a-ed8143075fa7
DTSTART;VALUE=DATE:20240609
DTEND;VALUE=DATE:20240609
DESCRIPTION:North Shore BMX
LOCATION:1301 Lillooet Road  North Vancouver BC V7J 3T7 CAN
SUMMARY:Race for Life Double
URL:/site/bmx_races/562304
END:VEVENT
END:VCALENDAR
