BEGIN:VCALENDAR
VERSION:2.0
PRODID:icalendar-ruby
CALSCALE:GREGORIAN
METHOD:PUBLISH
BEGIN:VEVENT
DTSTAMP:20260424T204059Z
UID:20eb4313-3e06-4aaa-9b9b-659c8bab3484
DTSTART;VALUE=DATE:20130626
DTEND;VALUE=DATE:20130626
DESCRIPTION:Redwood Empire BMX
LOCATION:201 Vance Ave  Samoa CA 95564 USA
SUMMARY:Local Race Single
URL:/site/bmx_races/56276
END:VEVENT
END:VCALENDAR
