BEGIN:VCALENDAR
VERSION:2.0
PRODID:icalendar-ruby
CALSCALE:GREGORIAN
METHOD:PUBLISH
BEGIN:VEVENT
DTSTAMP:20260421T113410Z
UID:d5021c9a-8fc7-4510-9fc7-715fabc275b9
DTSTART;VALUE=DATE:20240406
DTEND;VALUE=DATE:20240406
DESCRIPTION:Hardesty National BMX Stadium
LOCATION:490 N Lansing Ave  Tulsa OK 74120 USA
SUMMARY:Local Race Single
URL:/site/bmx_races/562946
END:VEVENT
END:VCALENDAR
