BEGIN:VCALENDAR
VERSION:2.0
PRODID:icalendar-ruby
CALSCALE:GREGORIAN
METHOD:PUBLISH
BEGIN:VEVENT
DTSTAMP:20260421T113445Z
UID:6545e0d3-c9c1-4c02-b9dc-df0484e7b0bc
DTSTART;VALUE=DATE:20240420
DTEND;VALUE=DATE:20240420
DESCRIPTION:Hardesty National BMX Stadium
LOCATION:490 N Lansing Ave  Tulsa OK 74120 USA
SUMMARY:Local Race Single
URL:/site/bmx_races/562949
END:VEVENT
END:VCALENDAR
