BEGIN:VCALENDAR
VERSION:2.0
PRODID:icalendar-ruby
CALSCALE:GREGORIAN
METHOD:PUBLISH
BEGIN:VEVENT
DTSTAMP:20260422T013222Z
UID:c9f91ba8-62ff-4c6a-97f4-4f47ba8592b9
DTSTART;VALUE=DATE:20240613
DTEND;VALUE=DATE:20240613
DESCRIPTION:Pemberton BMX
LOCATION:Cottonwood Road  Pemberton BC V0N2L1 CAN
SUMMARY:Local Race Single
URL:/site/bmx_races/563350
END:VEVENT
END:VCALENDAR
