BEGIN:VCALENDAR
VERSION:2.0
PRODID:icalendar-ruby
CALSCALE:GREGORIAN
METHOD:PUBLISH
BEGIN:VEVENT
DTSTAMP:20260421T210720Z
UID:920f04f1-e346-4c34-9e3f-6e5c9c91028e
DTSTART;VALUE=DATE:20240801
DTEND;VALUE=DATE:20240801
DESCRIPTION:Pemberton BMX
LOCATION:Cottonwood Road  Pemberton BC V0N2L1 CAN
SUMMARY:Local Race Single
URL:/site/bmx_races/563358
END:VEVENT
END:VCALENDAR
