BEGIN:VCALENDAR
VERSION:2.0
PRODID:icalendar-ruby
CALSCALE:GREGORIAN
METHOD:PUBLISH
BEGIN:VEVENT
DTSTAMP:20260420T211836Z
UID:bba29aae-a399-4393-9625-c2fcd98b7b72
DTSTART;VALUE=DATE:20241007
DTEND;VALUE=DATE:20241007
DESCRIPTION:Derby City BMX
LOCATION:3000 Freys Hill Rd  Louisville KY 40241 USA
SUMMARY:Practice
URL:/site/bmx_races/563427
END:VEVENT
END:VCALENDAR
