BEGIN:VCALENDAR
VERSION:2.0
PRODID:icalendar-ruby
CALSCALE:GREGORIAN
METHOD:PUBLISH
BEGIN:VEVENT
DTSTAMP:20260421T044458Z
UID:f8d74663-0474-4fc0-96eb-aab3d136d3fd
DTSTART;VALUE=DATE:20240421
DTEND;VALUE=DATE:20240421
DESCRIPTION:Marysville BMX
LOCATION:618 N Main St  Marysville OH 43040 USA
SUMMARY:Clinic
URL:/site/bmx_races/563704
END:VEVENT
END:VCALENDAR
