BEGIN:VCALENDAR
VERSION:2.0
PRODID:icalendar-ruby
CALSCALE:GREGORIAN
METHOD:PUBLISH
BEGIN:VEVENT
DTSTAMP:20260422T181802Z
UID:8bba2a7f-7eb8-4506-85db-34e5229998c3
DTSTART;VALUE=DATE:20240918
DTEND;VALUE=DATE:20240918
DESCRIPTION:Grand Forks BMX
LOCATION:Kettle River Dr & 7th St  Grand Forks BC V0H1H0 CAN
SUMMARY:Local Race Single
URL:/site/bmx_races/564214
END:VEVENT
END:VCALENDAR
