BEGIN:VCALENDAR
VERSION:2.0
PRODID:icalendar-ruby
CALSCALE:GREGORIAN
METHOD:PUBLISH
BEGIN:VEVENT
DTSTAMP:20260423T220338Z
UID:36b78246-9817-4491-ae5c-ba66c70f8d32
DTSTART;VALUE=DATE:20240521
DTEND;VALUE=DATE:20240521
DESCRIPTION:Lincoln Park BMX
LOCATION:South L St & W. Lauridsen Blvd  Port Angeles WA 98362 USA
SUMMARY:Non-Riding Event
URL:/site/bmx_races/564574
END:VEVENT
END:VCALENDAR
