BEGIN:VCALENDAR
VERSION:2.0
PRODID:icalendar-ruby
CALSCALE:GREGORIAN
METHOD:PUBLISH
BEGIN:VEVENT
DTSTAMP:20260421T060530Z
UID:95d8bf07-59f8-4e37-a2eb-51e080be6414
DTSTART;VALUE=DATE:20240512
DTEND;VALUE=DATE:20240512
DESCRIPTION:Billerica BMX
LOCATION:270 Treble Cove Rd  Billerica MA 01821 USA
SUMMARY:Local Race Single
URL:/site/bmx_races/564953
END:VEVENT
END:VCALENDAR
