BEGIN:VCALENDAR
VERSION:2.0
PRODID:icalendar-ruby
CALSCALE:GREGORIAN
METHOD:PUBLISH
BEGIN:VEVENT
DTSTAMP:20260423T203259Z
UID:4c5fb050-ef9b-4bbe-ba9d-d3cdf7a6a5c6
DTSTART;VALUE=DATE:20240603
DTEND;VALUE=DATE:20240603
DESCRIPTION:Lincoln Park BMX
LOCATION:South L St & W. Lauridsen Blvd  Port Angeles WA 98362 USA
SUMMARY:Clinic
URL:/site/bmx_races/565520
END:VEVENT
END:VCALENDAR
