BEGIN:VCALENDAR
VERSION:2.0
PRODID:icalendar-ruby
CALSCALE:GREGORIAN
METHOD:PUBLISH
BEGIN:VEVENT
DTSTAMP:20260421T012432Z
UID:44be4948-e080-4cc6-858d-cf9a8ebbe7a1
DTSTART;VALUE=DATE:20240611
DTEND;VALUE=DATE:20240611
DESCRIPTION:River City BMX
LOCATION:251 Ne Agness  Grants Pass OR 97526 USA
SUMMARY:Local Race Single
URL:/site/bmx_races/565616
END:VEVENT
END:VCALENDAR
