BEGIN:VCALENDAR
VERSION:2.0
PRODID:icalendar-ruby
CALSCALE:GREGORIAN
METHOD:PUBLISH
BEGIN:VEVENT
DTSTAMP:20260422T194301Z
UID:d839e7b1-2af6-4106-9fc0-a8d77058b7e7
DTSTART;VALUE=DATE:20240707
DTEND;VALUE=DATE:20240707
DESCRIPTION:Wheelhouse BMX
LOCATION:10401 E Hwy 89 A   Prescott AZ 86315 USA
SUMMARY:Local Race Single
URL:/site/bmx_races/565691
END:VEVENT
END:VCALENDAR
