BEGIN:VCALENDAR
VERSION:2.0
PRODID:icalendar-ruby
CALSCALE:GREGORIAN
METHOD:PUBLISH
BEGIN:VEVENT
DTSTAMP:20260422T112415Z
UID:f1a92f4f-80fa-423e-a06b-2bb7ba6d2b03
DTSTART;VALUE=DATE:20130415
DTEND;VALUE=DATE:20130415
DESCRIPTION:Reno Battleborn BMX
LOCATION:Sun Valley Gid Community Park 115 W 6th Ave Sun Valley NV 89433 US
 A
SUMMARY:Practice
URL:/site/bmx_races/56573
END:VEVENT
END:VCALENDAR
