BEGIN:VCALENDAR
VERSION:2.0
PRODID:icalendar-ruby
CALSCALE:GREGORIAN
METHOD:PUBLISH
BEGIN:VEVENT
DTSTAMP:20260421T012538Z
UID:e1a78bb1-47eb-4236-bf70-77e9e308d1d5
DTSTART;VALUE=DATE:20240725
DTEND;VALUE=DATE:20240725
DESCRIPTION:Omaha BMX
LOCATION:11111 W Maple Rd  Omaha NE 68164 USA
SUMMARY:Practice
URL:/site/bmx_races/565926
END:VEVENT
END:VCALENDAR
