BEGIN:VCALENDAR
VERSION:2.0
PRODID:icalendar-ruby
CALSCALE:GREGORIAN
METHOD:PUBLISH
BEGIN:VEVENT
DTSTAMP:20260421T063325Z
UID:3c0d1d59-9e8b-4b97-811b-4a5139467460
DTSTART;VALUE=DATE:20240711
DTEND;VALUE=DATE:20240711
DESCRIPTION:Hardesty National BMX Stadium
LOCATION:490 N Lansing Ave  Tulsa OK 74120 USA
SUMMARY:Local Race Single
URL:/site/bmx_races/565973
END:VEVENT
END:VCALENDAR
