BEGIN:VCALENDAR
VERSION:2.0
PRODID:icalendar-ruby
CALSCALE:GREGORIAN
METHOD:PUBLISH
BEGIN:VEVENT
DTSTAMP:20260421T063324Z
UID:1ae0476d-29c3-457f-a0af-6d12bd4e2c9b
DTSTART;VALUE=DATE:20240727
DTEND;VALUE=DATE:20240727
DESCRIPTION:Hardesty National BMX Stadium
LOCATION:490 N Lansing Ave  Tulsa OK 74120 USA
SUMMARY:Local Race Single
URL:/site/bmx_races/565983
END:VEVENT
END:VCALENDAR
