BEGIN:VCALENDAR
VERSION:2.0
PRODID:icalendar-ruby
CALSCALE:GREGORIAN
METHOD:PUBLISH
BEGIN:VEVENT
DTSTAMP:20260421T054546Z
UID:d1323c6c-e158-430f-a1fc-68892e33ec0a
DTSTART;VALUE=DATE:20240601
DTEND;VALUE=DATE:20240601
DESCRIPTION:Mike Sedar BMX
LOCATION:789 College Dr  Casper WY 82601 USA
SUMMARY:BMX Registration Day Single
URL:/site/bmx_races/566000
END:VEVENT
END:VCALENDAR
