BEGIN:VCALENDAR
VERSION:2.0
PRODID:icalendar-ruby
CALSCALE:GREGORIAN
METHOD:PUBLISH
BEGIN:VEVENT
DTSTAMP:20260422T025814Z
UID:e056bc23-0b03-4a5e-a60d-3c70d8df6ab5
DTSTART;VALUE=DATE:20131028
DTEND;VALUE=DATE:20131028
DESCRIPTION:Reno Battleborn BMX
LOCATION:Sun Valley Gid Community Park 115 W 6th Ave Sun Valley NV 89433 US
 A
SUMMARY:Practice
URL:/site/bmx_races/56653
END:VEVENT
END:VCALENDAR
