BEGIN:VCALENDAR
VERSION:2.0
PRODID:icalendar-ruby
CALSCALE:GREGORIAN
METHOD:PUBLISH
BEGIN:VEVENT
DTSTAMP:20260422T013101Z
UID:16ad6f8a-d36c-42e4-8758-7fa7a0f0f9e8
DTSTART;VALUE=DATE:20131104
DTEND;VALUE=DATE:20131104
DESCRIPTION:Reno Battleborn BMX
LOCATION:Sun Valley Gid Community Park 115 W 6th Ave Sun Valley NV 89433 US
 A
SUMMARY:Practice
URL:/site/bmx_races/56655
END:VEVENT
END:VCALENDAR
