BEGIN:VCALENDAR
VERSION:2.0
PRODID:icalendar-ruby
CALSCALE:GREGORIAN
METHOD:PUBLISH
BEGIN:VEVENT
DTSTAMP:20260422T013101Z
UID:c923dede-366d-4901-8d75-af20f1fca2fa
DTSTART;VALUE=DATE:20131124
DTEND;VALUE=DATE:20131124
DESCRIPTION:Reno Battleborn BMX
LOCATION:Sun Valley Gid Community Park 115 W 6th Ave Sun Valley NV 89433 US
 A
SUMMARY:Local Race Single
URL:/site/bmx_races/56660
END:VEVENT
END:VCALENDAR
