BEGIN:VCALENDAR
VERSION:2.0
PRODID:icalendar-ruby
CALSCALE:GREGORIAN
METHOD:PUBLISH
BEGIN:VEVENT
DTSTAMP:20260425T004830Z
UID:9443ea9f-471b-40a7-a7c4-148493c59803
DTSTART;VALUE=DATE:20130322
DTEND;VALUE=DATE:20130322
DESCRIPTION:Redwood Empire BMX
LOCATION:201 Vance Ave  Samoa CA 95564 USA
SUMMARY:Local Race Single
URL:/site/bmx_races/56670
END:VEVENT
END:VCALENDAR
