BEGIN:VCALENDAR
VERSION:2.0
PRODID:icalendar-ruby
CALSCALE:GREGORIAN
METHOD:PUBLISH
BEGIN:VEVENT
DTSTAMP:20260424T232207Z
UID:0c7704c5-9d1d-4a32-8211-408c37e01663
DTSTART;VALUE=DATE:20130412
DTEND;VALUE=DATE:20130412
DESCRIPTION:Redwood Empire BMX
LOCATION:201 Vance Ave  Samoa CA 95564 USA
SUMMARY:Local Race Single
URL:/site/bmx_races/56673
END:VEVENT
END:VCALENDAR
