BEGIN:VCALENDAR
VERSION:2.0
PRODID:icalendar-ruby
CALSCALE:GREGORIAN
METHOD:PUBLISH
BEGIN:VEVENT
DTSTAMP:20260421T191632Z
UID:6f24717b-f9f7-4137-9ae5-09d80c435f91
DTSTART;VALUE=DATE:20240706
DTEND;VALUE=DATE:20240706
DESCRIPTION:Hornet`s Nest BMX
LOCATION:6301 Beatties Ford Rd  Charlotte NC 28216 USA
SUMMARY:Clinic
URL:/site/bmx_races/566785
END:VEVENT
END:VCALENDAR
