BEGIN:VCALENDAR
VERSION:2.0
PRODID:icalendar-ruby
CALSCALE:GREGORIAN
METHOD:PUBLISH
BEGIN:VEVENT
DTSTAMP:20260421T191735Z
UID:dff458d9-b646-4a83-ab01-6457ea655d99
DTSTART;VALUE=DATE:20240713
DTEND;VALUE=DATE:20240713
DESCRIPTION:Hornet`s Nest BMX
LOCATION:6301 Beatties Ford Rd  Charlotte NC 28216 USA
SUMMARY:Clinic
URL:/site/bmx_races/566787
END:VEVENT
END:VCALENDAR
