BEGIN:VCALENDAR
VERSION:2.0
PRODID:icalendar-ruby
CALSCALE:GREGORIAN
METHOD:PUBLISH
BEGIN:VEVENT
DTSTAMP:20260421T191639Z
UID:01820ca6-2c0c-4c50-9cbe-72fc08f97ef4
DTSTART;VALUE=DATE:20240727
DTEND;VALUE=DATE:20240727
DESCRIPTION:Hornet`s Nest BMX
LOCATION:6301 Beatties Ford Rd  Charlotte NC 28216 USA
SUMMARY:Practice
URL:/site/bmx_races/566792
END:VEVENT
END:VCALENDAR
