BEGIN:VCALENDAR
VERSION:2.0
PRODID:icalendar-ruby
CALSCALE:GREGORIAN
METHOD:PUBLISH
BEGIN:VEVENT
DTSTAMP:20260420T023909Z
UID:688b4b7b-f2c6-40aa-88f5-7a91b5427978
DTSTART;VALUE=DATE:20240823
DTEND;VALUE=DATE:20240823
DESCRIPTION:Fountain City BMX
LOCATION:David D. Whetstone Jr. Sports Complex     County Road 4 W Prattvil
 le AL 36066 USA
SUMMARY:Local Race Single
URL:/site/bmx_races/566971
END:VEVENT
END:VCALENDAR
