BEGIN:VCALENDAR
VERSION:2.0
PRODID:icalendar-ruby
CALSCALE:GREGORIAN
METHOD:PUBLISH
BEGIN:VEVENT
DTSTAMP:20260421T172011Z
UID:a3ec59ff-6cde-4dde-9903-61f201d2b447
DTSTART;VALUE=DATE:20240627
DTEND;VALUE=DATE:20240627
DESCRIPTION:Hornet`s Nest BMX
LOCATION:6301 Beatties Ford Rd  Charlotte NC 28216 USA
SUMMARY:Local Race Single
URL:/site/bmx_races/566980
END:VEVENT
END:VCALENDAR
