BEGIN:VCALENDAR
VERSION:2.0
PRODID:icalendar-ruby
CALSCALE:GREGORIAN
METHOD:PUBLISH
BEGIN:VEVENT
DTSTAMP:20260421T003732Z
UID:2c7ebd2c-a83a-4d2e-a011-d2714b2d71db
DTSTART;VALUE=DATE:20240702
DTEND;VALUE=DATE:20240702
DESCRIPTION:Oceanside BMX
LOCATION:354 Park Rd  Qualicum Beach BC V9Y3R5 CAN
SUMMARY:Local Race Single
URL:/site/bmx_races/567182
END:VEVENT
END:VCALENDAR
