BEGIN:VCALENDAR
VERSION:2.0
PRODID:icalendar-ruby
CALSCALE:GREGORIAN
METHOD:PUBLISH
BEGIN:VEVENT
DTSTAMP:20260423T190734Z
UID:5bf51139-782e-4bdf-831d-4f1b30f9e676
DTSTART;VALUE=DATE:20240718
DTEND;VALUE=DATE:20240718
DESCRIPTION:Lincoln Park BMX
LOCATION:South L St & W. Lauridsen Blvd  Port Angeles WA 98362 USA
SUMMARY:Clinic
URL:/site/bmx_races/567588
END:VEVENT
END:VCALENDAR
