BEGIN:VCALENDAR
VERSION:2.0
PRODID:icalendar-ruby
CALSCALE:GREGORIAN
METHOD:PUBLISH
BEGIN:VEVENT
DTSTAMP:20260421T060552Z
UID:0c5f6927-4cab-4bc6-af82-47fa0527d238
DTSTART;VALUE=DATE:20240723
DTEND;VALUE=DATE:20240723
DESCRIPTION:Eagle Park BMX
LOCATION:11800 N Horseshoe Bend Rd  Eagle ID 83616 USA
SUMMARY:Clinic
URL:/site/bmx_races/567609
END:VEVENT
END:VCALENDAR
