BEGIN:VCALENDAR
VERSION:2.0
PRODID:icalendar-ruby
CALSCALE:GREGORIAN
METHOD:PUBLISH
BEGIN:VEVENT
DTSTAMP:20260424T005904Z
UID:fcf0ed6a-0aed-4f25-a229-850dab9c5449
DTSTART;VALUE=DATE:20240822
DTEND;VALUE=DATE:20240822
DESCRIPTION:Valley BMX
LOCATION:Myron Ln.  Off Wilawana Rd Athens PA 18840 USA
SUMMARY:Local Race Single
URL:/site/bmx_races/567672
END:VEVENT
END:VCALENDAR
