BEGIN:VCALENDAR
VERSION:2.0
PRODID:icalendar-ruby
CALSCALE:GREGORIAN
METHOD:PUBLISH
BEGIN:VEVENT
DTSTAMP:20260421T050314Z
UID:ee759d3b-8165-48d4-a2db-cb7eab97a3c7
DTSTART;VALUE=DATE:20240713
DTEND;VALUE=DATE:20240713
DESCRIPTION:Rogue Valley BMX
LOCATION:Highland Drive  Medford OR 97504 USA
SUMMARY:Local Race Single
URL:/site/bmx_races/567681
END:VEVENT
END:VCALENDAR
