BEGIN:VCALENDAR
VERSION:2.0
PRODID:icalendar-ruby
CALSCALE:GREGORIAN
METHOD:PUBLISH
BEGIN:VEVENT
DTSTAMP:20260420T220848Z
UID:44cfc103-1861-480a-8814-b1d046b73de9
DTSTART;VALUE=DATE:20240814
DTEND;VALUE=DATE:20240814
DESCRIPTION:Marysville BMX
LOCATION:618 N Main St  Marysville OH 43040 USA
SUMMARY:Clinic
URL:/site/bmx_races/567959
END:VEVENT
END:VCALENDAR
