BEGIN:VCALENDAR
VERSION:2.0
PRODID:icalendar-ruby
CALSCALE:GREGORIAN
METHOD:PUBLISH
BEGIN:VEVENT
DTSTAMP:20260421T141628Z
UID:b58dbdce-9e16-407a-99cf-003ecdfe4b79
DTSTART;VALUE=DATE:20240730
DTEND;VALUE=DATE:20240730
DESCRIPTION:Tucson BMX
LOCATION:9245 E Irvington  Tucson AZ 85730 USA
SUMMARY:Local Race Single
URL:/site/bmx_races/568394
END:VEVENT
END:VCALENDAR
