BEGIN:VCALENDAR
VERSION:2.0
PRODID:icalendar-ruby
CALSCALE:GREGORIAN
METHOD:PUBLISH
BEGIN:VEVENT
DTSTAMP:20260421T044503Z
UID:45b75cc7-2a29-4cd3-9236-c68e0e52b1ea
DTSTART;VALUE=DATE:20240812
DTEND;VALUE=DATE:20240812
DESCRIPTION:Hardesty National BMX Stadium
LOCATION:490 N Lansing Ave  Tulsa OK 74120 USA
SUMMARY:Practice
URL:/site/bmx_races/568494
END:VEVENT
END:VCALENDAR
