BEGIN:VCALENDAR
VERSION:2.0
PRODID:icalendar-ruby
CALSCALE:GREGORIAN
METHOD:PUBLISH
BEGIN:VEVENT
DTSTAMP:20260423T154831Z
UID:de1cfaff-a635-4e9f-bba2-2e62c9a0a95d
DTSTART;VALUE=DATE:20240904
DTEND;VALUE=DATE:20240904
DESCRIPTION:Lincoln Park BMX
LOCATION:South L St & W. Lauridsen Blvd  Port Angeles WA 98362 USA
SUMMARY:Non-Riding Event
URL:/site/bmx_races/568832
END:VEVENT
END:VCALENDAR
