BEGIN:VCALENDAR
VERSION:2.0
PRODID:icalendar-ruby
CALSCALE:GREGORIAN
METHOD:PUBLISH
BEGIN:VEVENT
DTSTAMP:20260421T003733Z
UID:32a662c3-ff99-4894-b26a-2fd6604f0fea
DTSTART;VALUE=DATE:20240904
DTEND;VALUE=DATE:20240904
DESCRIPTION:Stouffville BMX
LOCATION:3291 Stouffville Rd  Whitchurch-Stouffville ON L4A7X5 CAN
SUMMARY:Local Race Single
URL:/site/bmx_races/568917
END:VEVENT
END:VCALENDAR
