BEGIN:VCALENDAR
VERSION:2.0
PRODID:icalendar-ruby
CALSCALE:GREGORIAN
METHOD:PUBLISH
BEGIN:VEVENT
DTSTAMP:20260421T204652Z
UID:cb7e3f17-814d-4396-8d30-dfee10a9a222
DTSTART;VALUE=DATE:20240912
DTEND;VALUE=DATE:20240912
DESCRIPTION:Pemberton BMX
LOCATION:Cottonwood Road  Pemberton BC V0N2L1 CAN
SUMMARY:Race for Life Single
URL:/site/bmx_races/569092
END:VEVENT
END:VCALENDAR
